BEGIN:VCALENDAR
VERSION:2.0
PRODID:-//Anindell - ECPv6.15.20//NONSGML v1.0//EN
CALSCALE:GREGORIAN
METHOD:PUBLISH
X-WR-CALNAME:Anindell
X-ORIGINAL-URL:https://anindell.com
X-WR-CALDESC:Events for Anindell
REFRESH-INTERVAL;VALUE=DURATION:PT1H
X-Robots-Tag:noindex
X-PUBLISHED-TTL:PT1H
BEGIN:VTIMEZONE
TZID:America/Los_Angeles
BEGIN:DAYLIGHT
TZOFFSETFROM:-0800
TZOFFSETTO:-0700
TZNAME:PDT
DTSTART:20230312T100000
END:DAYLIGHT
BEGIN:STANDARD
TZOFFSETFROM:-0700
TZOFFSETTO:-0800
TZNAME:PST
DTSTART:20231105T090000
END:STANDARD
BEGIN:DAYLIGHT
TZOFFSETFROM:-0800
TZOFFSETTO:-0700
TZNAME:PDT
DTSTART:20240310T100000
END:DAYLIGHT
BEGIN:STANDARD
TZOFFSETFROM:-0700
TZOFFSETTO:-0800
TZNAME:PST
DTSTART:20241103T090000
END:STANDARD
BEGIN:DAYLIGHT
TZOFFSETFROM:-0800
TZOFFSETTO:-0700
TZNAME:PDT
DTSTART:20250309T100000
END:DAYLIGHT
BEGIN:STANDARD
TZOFFSETFROM:-0700
TZOFFSETTO:-0800
TZNAME:PST
DTSTART:20251102T090000
END:STANDARD
END:VTIMEZONE
BEGIN:VEVENT
DTSTART;TZID=America/Los_Angeles:20241016T100000
DTEND;TZID=America/Los_Angeles:20241016T120000
DTSTAMP:20260425T133405
CREATED:20240923T220531Z
LAST-MODIFIED:20240923T220531Z
UID:3146-1729072800-1729080000@anindell.com
SUMMARY:Brunch Bites
DESCRIPTION:October\, 16th | 10 AM – 12 PM\nStart your day with Anindell at Brunch Bites!\nEnjoy a an elegant morning of gourmet bites and refreshing mimosa bar as you connect with future neighbors and explore Anindell’s luxury floor plan tailored for your next chapter.\n📍115 Healthy Way\, Folsom\, CA 95630\nFill out the form below or call us at 916.909.1137 to secure your reservation! Reservations required as seating is limited.\n\n\n                \n                        \n                            Make Your Reservation Today!\n                             \n                        \n                        Name(Required)Email(Required)PhoneThis field is hidden when viewing the formUTM SourceThis field is hidden when viewing the formUTM MediumThis field is hidden when viewing the formUTM CampaignThis field is hidden when viewing the formSource Id\n         RSVP \n            \n            \n            \n            \n            \n            \n            \n            \n            \n            \n            \n            \n            \n        \n                        Δ
URL:https://anindell.com/events/brunch-bites/
ATTACH;FMTTYPE=image/jpeg:https://anindell.com/wp-content/uploads/2024/09/iStock-1434821007.jpg
ORGANIZER;CN="Anindell Management":MAILTO:events@anindell.com
END:VEVENT
BEGIN:VEVENT
DTSTART;TZID=America/Los_Angeles:20241019T100000
DTEND;TZID=America/Los_Angeles:20241019T120000
DTSTAMP:20260425T133405
CREATED:20240923T223108Z
LAST-MODIFIED:20240923T225830Z
UID:3148-1729332000-1729339200@anindell.com
SUMMARY:Mindful Movement with Tai Chi
DESCRIPTION:Saturday | October\, 19th | 10 AM – 12 PM\nDiscover Balance and Wellness with Tai Chi at Anindell: A Mindful Journey to Strengthen Body and Community!\nJoin Anindell for an expert-led Tai Chi demonstration and experience the Strengthen element of the ‘LiveWell at Anindell’ lifestyle. This graceful practice is designed to rejuvenate both body and mind.\nAfter the gentle exercise\, enjoy a selection of refreshing beverages and light\, healthy bites. It’s a perfect opportunity to connect with future neighbors and explore how Anindell fosters an active\, balanced approach to wellness.\n  \n📍115 Healthy Way\, Folsom\, CA 95630\n  \nFill out the form below or call us at 916.659.8638 to secure your reservation! Reservations required as seating is limited.\n\n                \n                        \n                            Make Your Reservation Today!\n                             \n                        \n                        Name(Required)Email(Required)PhoneThis field is hidden when viewing the formUTM SourceThis field is hidden when viewing the formUTM MediumThis field is hidden when viewing the formUTM CampaignThis field is hidden when viewing the formSource Id\n         RSVP \n            \n            \n            \n            \n            \n            \n            \n            \n            \n            \n            \n            \n            \n        \n                        Δ
URL:https://anindell.com/events/mindful-movement-with-tai-chi/
ATTACH;FMTTYPE=image/jpeg:https://anindell.com/wp-content/uploads/2024/09/iStock-1250776468.jpg
ORGANIZER;CN="Anindell Management":MAILTO:events@anindell.com
END:VEVENT
END:VCALENDAR